BEGIN:VCALENDAR
VERSION:2.0
PRODID:-//MAIRIE DE NEUVES-MAISONS - ECPv6.7.0//NONSGML v1.0//EN
CALSCALE:GREGORIAN
METHOD:PUBLISH
X-WR-CALNAME:MAIRIE DE NEUVES-MAISONS
X-ORIGINAL-URL:https://www.neuves-maisons.fr
X-WR-CALDESC:Évènements pour MAIRIE DE NEUVES-MAISONS
REFRESH-INTERVAL;VALUE=DURATION:PT1H
X-Robots-Tag:noindex
X-PUBLISHED-TTL:PT1H
BEGIN:VTIMEZONE
TZID:Europe/Paris
BEGIN:DAYLIGHT
TZOFFSETFROM:+0100
TZOFFSETTO:+0200
TZNAME:CEST
DTSTART:20250330T010000
END:DAYLIGHT
BEGIN:STANDARD
TZOFFSETFROM:+0200
TZOFFSETTO:+0100
TZNAME:CET
DTSTART:20251026T010000
END:STANDARD
END:VTIMEZONE
BEGIN:VEVENT
DTSTART;TZID=Europe/Paris:20250705T090000
DTEND;TZID=Europe/Paris:20250705T160000
DTSTAMP:20260419T193530
CREATED:20250523T113744Z
LAST-MODIFIED:20250523T114529Z
UID:56521-1751706000-1751731200@www.neuves-maisons.fr
SUMMARY:Braderie Secours Populaire
DESCRIPTION:Le Secours populaire organise une grande braderie samedi 5 juillet de 9h à 16h\, dans sa boutique fraichement rénovée “Pop’ fringues”\, à droite de l’église de Neuves-Maisons. \n  \nLivres\, vêtements\, vaisselle\, linge de maison… de bonnes affaires à petits prix vous attendent !
URL:https://www.neuves-maisons.fr/agenda/braderie-secours-populaire/
LOCATION:Pop fringues\, Rue Povoa de Lanhoso\, Neuves-Maisons\, 54230\, France
ATTACH;FMTTYPE=image/jpeg:https://www.neuves-maisons.fr/wp-content/uploads/2025/05/Affiche-Braderie-SPF-2025.jpg
END:VEVENT
END:VCALENDAR